BEGIN:VCALENDAR
VERSION:2.0
PRODID:-//RCCG JIC - A Church For All - ECPv6.15.14//NONSGML v1.0//EN
CALSCALE:GREGORIAN
METHOD:PUBLISH
X-WR-CALNAME:RCCG JIC - A Church For All
X-ORIGINAL-URL:https://rccgjic.org
X-WR-CALDESC:Events for RCCG JIC - A Church For All
REFRESH-INTERVAL;VALUE=DURATION:PT1H
X-Robots-Tag:noindex
X-PUBLISHED-TTL:PT1H
BEGIN:VTIMEZONE
TZID:America/New_York
BEGIN:DAYLIGHT
TZOFFSETFROM:-0500
TZOFFSETTO:-0400
TZNAME:EDT
DTSTART:20250309T070000
END:DAYLIGHT
BEGIN:STANDARD
TZOFFSETFROM:-0400
TZOFFSETTO:-0500
TZNAME:EST
DTSTART:20251102T060000
END:STANDARD
BEGIN:DAYLIGHT
TZOFFSETFROM:-0500
TZOFFSETTO:-0400
TZNAME:EDT
DTSTART:20260308T070000
END:DAYLIGHT
BEGIN:STANDARD
TZOFFSETFROM:-0400
TZOFFSETTO:-0500
TZNAME:EST
DTSTART:20261101T060000
END:STANDARD
BEGIN:DAYLIGHT
TZOFFSETFROM:-0500
TZOFFSETTO:-0400
TZNAME:EDT
DTSTART:20270314T070000
END:DAYLIGHT
BEGIN:STANDARD
TZOFFSETFROM:-0400
TZOFFSETTO:-0500
TZNAME:EST
DTSTART:20271107T060000
END:STANDARD
END:VTIMEZONE
BEGIN:VEVENT
DTSTART;TZID=America/New_York:20260419T100000
DTEND;TZID=America/New_York:20260419T113000
DTSTAMP:20260418T153506
CREATED:20251222T075504Z
LAST-MODIFIED:20251222T081515Z
UID:3419-1776592800-1776598200@rccgjic.org
SUMMARY:Sunday Service
DESCRIPTION:Service begins at 10am
URL:https://rccgjic.org/event/sunday-service-17/
CATEGORIES:Sunday Service
END:VEVENT
BEGIN:VEVENT
DTSTART;TZID=America/New_York:20260420T210000
DTEND;TZID=America/New_York:20260420T220000
DTSTAMP:20260418T153506
CREATED:20251222T075504Z
LAST-MODIFIED:20251222T081417Z
UID:3420-1776718800-1776722400@rccgjic.org
SUMMARY:Intercessory Prayers
DESCRIPTION:Dial 720-650-3030 and Access Code 2474456#
URL:https://rccgjic.org/event/intercessory-prayers-16/
CATEGORIES:Prayer Meeting
END:VEVENT
BEGIN:VEVENT
DTSTART;TZID=America/New_York:20260423T190000
DTEND;TZID=America/New_York:20260423T200000
DTSTAMP:20260418T153506
CREATED:20251222T075504Z
LAST-MODIFIED:20251222T081333Z
UID:3421-1776970800-1776974400@rccgjic.org
SUMMARY:Bible Study
DESCRIPTION:Join on Zoom with code 617-262-0537
URL:https://rccgjic.org/event/bible-study-17/
CATEGORIES:Bible Study
END:VEVENT
BEGIN:VEVENT
DTSTART;TZID=America/New_York:20260426T100000
DTEND;TZID=America/New_York:20260426T113000
DTSTAMP:20260418T153506
CREATED:20251222T075504Z
LAST-MODIFIED:20251222T081515Z
UID:3422-1777197600-1777203000@rccgjic.org
SUMMARY:Sunday Service
DESCRIPTION:Service begins at 10am
URL:https://rccgjic.org/event/sunday-service-18/
CATEGORIES:Sunday Service
END:VEVENT
BEGIN:VEVENT
DTSTART;TZID=America/New_York:20260427T210000
DTEND;TZID=America/New_York:20260427T220000
DTSTAMP:20260418T153506
CREATED:20251222T075513Z
LAST-MODIFIED:20251222T081417Z
UID:3423-1777323600-1777327200@rccgjic.org
SUMMARY:Intercessory Prayers
DESCRIPTION:Dial 720-650-3030 and Access Code 2474456#
URL:https://rccgjic.org/event/intercessory-prayers-17/
CATEGORIES:Prayer Meeting
END:VEVENT
BEGIN:VEVENT
DTSTART;TZID=America/New_York:20260430T190000
DTEND;TZID=America/New_York:20260430T200000
DTSTAMP:20260418T153506
CREATED:20251222T075514Z
LAST-MODIFIED:20251222T081333Z
UID:3424-1777575600-1777579200@rccgjic.org
SUMMARY:Bible Study
DESCRIPTION:Join on Zoom with code 617-262-0538
URL:https://rccgjic.org/event/bible-study-18/
CATEGORIES:Bible Study
END:VEVENT
BEGIN:VEVENT
DTSTART;TZID=America/New_York:20260503T100000
DTEND;TZID=America/New_York:20260503T113000
DTSTAMP:20260418T153506
CREATED:20251222T075514Z
LAST-MODIFIED:20251222T081515Z
UID:3425-1777802400-1777807800@rccgjic.org
SUMMARY:Sunday Service
DESCRIPTION:Service begins at 10am
URL:https://rccgjic.org/event/sunday-service-19/
CATEGORIES:Sunday Service
END:VEVENT
BEGIN:VEVENT
DTSTART;TZID=America/New_York:20260504T210000
DTEND;TZID=America/New_York:20260504T220000
DTSTAMP:20260418T153506
CREATED:20251222T075514Z
LAST-MODIFIED:20251222T081417Z
UID:3426-1777928400-1777932000@rccgjic.org
SUMMARY:Intercessory Prayers
DESCRIPTION:Dial 720-650-3030 and Access Code 2474456#
URL:https://rccgjic.org/event/intercessory-prayers-18/
CATEGORIES:Prayer Meeting
END:VEVENT
BEGIN:VEVENT
DTSTART;TZID=America/New_York:20260507T190000
DTEND;TZID=America/New_York:20260507T200000
DTSTAMP:20260418T153506
CREATED:20251222T075516Z
LAST-MODIFIED:20251222T081333Z
UID:3427-1778180400-1778184000@rccgjic.org
SUMMARY:Bible Study
DESCRIPTION:Join on Zoom with code 617-262-0539
URL:https://rccgjic.org/event/bible-study-19/
CATEGORIES:Bible Study
END:VEVENT
BEGIN:VEVENT
DTSTART;TZID=America/New_York:20260510T100000
DTEND;TZID=America/New_York:20260510T113000
DTSTAMP:20260418T153506
CREATED:20251222T075523Z
LAST-MODIFIED:20251222T081515Z
UID:3428-1778407200-1778412600@rccgjic.org
SUMMARY:Sunday Service
DESCRIPTION:Service begins at 10am
URL:https://rccgjic.org/event/sunday-service-20/
CATEGORIES:Sunday Service
END:VEVENT
BEGIN:VEVENT
DTSTART;TZID=America/New_York:20260511T210000
DTEND;TZID=America/New_York:20260511T220000
DTSTAMP:20260418T153506
CREATED:20251222T075523Z
LAST-MODIFIED:20251222T081417Z
UID:3429-1778533200-1778536800@rccgjic.org
SUMMARY:Intercessory Prayers
DESCRIPTION:Dial 720-650-3030 and Access Code 2474456#
URL:https://rccgjic.org/event/intercessory-prayers-19/
CATEGORIES:Prayer Meeting
END:VEVENT
BEGIN:VEVENT
DTSTART;TZID=America/New_York:20260514T190000
DTEND;TZID=America/New_York:20260514T200000
DTSTAMP:20260418T153507
CREATED:20251222T075523Z
LAST-MODIFIED:20251222T081333Z
UID:3430-1778785200-1778788800@rccgjic.org
SUMMARY:Bible Study
DESCRIPTION:Join on Zoom with code 617-262-0540
URL:https://rccgjic.org/event/bible-study-20/
CATEGORIES:Bible Study
END:VEVENT
BEGIN:VEVENT
DTSTART;TZID=America/New_York:20260517T100000
DTEND;TZID=America/New_York:20260517T113000
DTSTAMP:20260418T153507
CREATED:20251222T075523Z
LAST-MODIFIED:20251222T081515Z
UID:3431-1779012000-1779017400@rccgjic.org
SUMMARY:Sunday Service
DESCRIPTION:Service begins at 10am
URL:https://rccgjic.org/event/sunday-service-21/
CATEGORIES:Sunday Service
END:VEVENT
BEGIN:VEVENT
DTSTART;TZID=America/New_York:20260518T210000
DTEND;TZID=America/New_York:20260518T220000
DTSTAMP:20260418T153507
CREATED:20251222T075524Z
LAST-MODIFIED:20251222T081417Z
UID:3432-1779138000-1779141600@rccgjic.org
SUMMARY:Intercessory Prayers
DESCRIPTION:Dial 720-650-3030 and Access Code 2474456#
URL:https://rccgjic.org/event/intercessory-prayers-20/
CATEGORIES:Prayer Meeting
END:VEVENT
BEGIN:VEVENT
DTSTART;TZID=America/New_York:20260521T190000
DTEND;TZID=America/New_York:20260521T200000
DTSTAMP:20260418T153507
CREATED:20251222T075530Z
LAST-MODIFIED:20251222T081333Z
UID:3433-1779390000-1779393600@rccgjic.org
SUMMARY:Bible Study
DESCRIPTION:Join on Zoom with code 617-262-0541
URL:https://rccgjic.org/event/bible-study-21/
CATEGORIES:Bible Study
END:VEVENT
BEGIN:VEVENT
DTSTART;TZID=America/New_York:20260524T100000
DTEND;TZID=America/New_York:20260524T113000
DTSTAMP:20260418T153507
CREATED:20251222T075531Z
LAST-MODIFIED:20251222T081515Z
UID:3434-1779616800-1779622200@rccgjic.org
SUMMARY:Sunday Service
DESCRIPTION:Service begins at 10am
URL:https://rccgjic.org/event/sunday-service-22/
CATEGORIES:Sunday Service
END:VEVENT
BEGIN:VEVENT
DTSTART;TZID=America/New_York:20260525T210000
DTEND;TZID=America/New_York:20260525T220000
DTSTAMP:20260418T153507
CREATED:20251222T075531Z
LAST-MODIFIED:20251222T081417Z
UID:3435-1779742800-1779746400@rccgjic.org
SUMMARY:Intercessory Prayers
DESCRIPTION:Dial 720-650-3030 and Access Code 2474456#
URL:https://rccgjic.org/event/intercessory-prayers-21/
CATEGORIES:Prayer Meeting
END:VEVENT
BEGIN:VEVENT
DTSTART;TZID=America/New_York:20260528T190000
DTEND;TZID=America/New_York:20260528T200000
DTSTAMP:20260418T153507
CREATED:20251222T075531Z
LAST-MODIFIED:20251222T081333Z
UID:3436-1779994800-1779998400@rccgjic.org
SUMMARY:Bible Study
DESCRIPTION:Join on Zoom with code 617-262-0542
URL:https://rccgjic.org/event/bible-study-22/
CATEGORIES:Bible Study
END:VEVENT
BEGIN:VEVENT
DTSTART;TZID=America/New_York:20260531T100000
DTEND;TZID=America/New_York:20260531T113000
DTSTAMP:20260418T153507
CREATED:20251222T075531Z
LAST-MODIFIED:20251222T081515Z
UID:3437-1780221600-1780227000@rccgjic.org
SUMMARY:Sunday Service
DESCRIPTION:Service begins at 10am
URL:https://rccgjic.org/event/sunday-service-23/
CATEGORIES:Sunday Service
END:VEVENT
BEGIN:VEVENT
DTSTART;TZID=America/New_York:20260601T210000
DTEND;TZID=America/New_York:20260601T220000
DTSTAMP:20260418T153507
CREATED:20251222T075540Z
LAST-MODIFIED:20251222T081417Z
UID:3438-1780347600-1780351200@rccgjic.org
SUMMARY:Intercessory Prayers
DESCRIPTION:Dial 720-650-3030 and Access Code 2474456#
URL:https://rccgjic.org/event/intercessory-prayers-22/
CATEGORIES:Prayer Meeting
END:VEVENT
BEGIN:VEVENT
DTSTART;TZID=America/New_York:20260604T190000
DTEND;TZID=America/New_York:20260604T200000
DTSTAMP:20260418T153507
CREATED:20251222T075540Z
LAST-MODIFIED:20251222T081333Z
UID:3439-1780599600-1780603200@rccgjic.org
SUMMARY:Bible Study
DESCRIPTION:Join on Zoom with code 617-262-0543
URL:https://rccgjic.org/event/bible-study-23/
CATEGORIES:Bible Study
END:VEVENT
BEGIN:VEVENT
DTSTART;TZID=America/New_York:20260607T100000
DTEND;TZID=America/New_York:20260607T113000
DTSTAMP:20260418T153507
CREATED:20251222T075540Z
LAST-MODIFIED:20251222T081516Z
UID:3440-1780826400-1780831800@rccgjic.org
SUMMARY:Sunday Service
DESCRIPTION:Service begins at 10am
URL:https://rccgjic.org/event/sunday-service-24/
CATEGORIES:Sunday Service
END:VEVENT
BEGIN:VEVENT
DTSTART;TZID=America/New_York:20260608T210000
DTEND;TZID=America/New_York:20260608T220000
DTSTAMP:20260418T153507
CREATED:20251222T075541Z
LAST-MODIFIED:20251222T081417Z
UID:3441-1780952400-1780956000@rccgjic.org
SUMMARY:Intercessory Prayers
DESCRIPTION:Dial 720-650-3030 and Access Code 2474456#
URL:https://rccgjic.org/event/intercessory-prayers-23/
CATEGORIES:Prayer Meeting
END:VEVENT
BEGIN:VEVENT
DTSTART;TZID=America/New_York:20260611T190000
DTEND;TZID=America/New_York:20260611T200000
DTSTAMP:20260418T153507
CREATED:20251222T075541Z
LAST-MODIFIED:20251222T081333Z
UID:3442-1781204400-1781208000@rccgjic.org
SUMMARY:Bible Study
DESCRIPTION:Join on Zoom with code 617-262-0544
URL:https://rccgjic.org/event/bible-study-24/
CATEGORIES:Bible Study
END:VEVENT
BEGIN:VEVENT
DTSTART;TZID=America/New_York:20260614T100000
DTEND;TZID=America/New_York:20260614T113000
DTSTAMP:20260418T153507
CREATED:20251222T075550Z
LAST-MODIFIED:20251222T081516Z
UID:3443-1781431200-1781436600@rccgjic.org
SUMMARY:Sunday Service
DESCRIPTION:Service begins at 10am
URL:https://rccgjic.org/event/sunday-service-25/
CATEGORIES:Sunday Service
END:VEVENT
BEGIN:VEVENT
DTSTART;TZID=America/New_York:20260615T210000
DTEND;TZID=America/New_York:20260615T220000
DTSTAMP:20260418T153507
CREATED:20251222T075550Z
LAST-MODIFIED:20251222T081417Z
UID:3444-1781557200-1781560800@rccgjic.org
SUMMARY:Intercessory Prayers
DESCRIPTION:Dial 720-650-3030 and Access Code 2474456#
URL:https://rccgjic.org/event/intercessory-prayers-24/
CATEGORIES:Prayer Meeting
END:VEVENT
BEGIN:VEVENT
DTSTART;TZID=America/New_York:20260618T190000
DTEND;TZID=America/New_York:20260618T200000
DTSTAMP:20260418T153507
CREATED:20251222T075550Z
LAST-MODIFIED:20251222T081333Z
UID:3445-1781809200-1781812800@rccgjic.org
SUMMARY:Bible Study
DESCRIPTION:Join on Zoom with code 617-262-0545
URL:https://rccgjic.org/event/bible-study-25/
CATEGORIES:Bible Study
END:VEVENT
BEGIN:VEVENT
DTSTART;TZID=America/New_York:20260621T100000
DTEND;TZID=America/New_York:20260621T113000
DTSTAMP:20260418T153507
CREATED:20251222T075551Z
LAST-MODIFIED:20251222T081516Z
UID:3446-1782036000-1782041400@rccgjic.org
SUMMARY:Sunday Service
DESCRIPTION:Service begins at 10am
URL:https://rccgjic.org/event/sunday-service-26/
CATEGORIES:Sunday Service
END:VEVENT
BEGIN:VEVENT
DTSTART;TZID=America/New_York:20260622T210000
DTEND;TZID=America/New_York:20260622T220000
DTSTAMP:20260418T153507
CREATED:20251222T075551Z
LAST-MODIFIED:20251222T081417Z
UID:3447-1782162000-1782165600@rccgjic.org
SUMMARY:Intercessory Prayers
DESCRIPTION:Dial 720-650-3030 and Access Code 2474456#
URL:https://rccgjic.org/event/intercessory-prayers-25/
CATEGORIES:Prayer Meeting
END:VEVENT
BEGIN:VEVENT
DTSTART;TZID=America/New_York:20260625T190000
DTEND;TZID=America/New_York:20260625T200000
DTSTAMP:20260418T153507
CREATED:20251222T075600Z
LAST-MODIFIED:20251222T081333Z
UID:3448-1782414000-1782417600@rccgjic.org
SUMMARY:Bible Study
DESCRIPTION:Join on Zoom with code 617-262-0546
URL:https://rccgjic.org/event/bible-study-26/
CATEGORIES:Bible Study
END:VEVENT
END:VCALENDAR